BEGIN:VCALENDAR
VERSION:2.0
PRODID:-//Mustard Seed Furniture Bank - ECPv6.15.20//NONSGML v1.0//EN
CALSCALE:GREGORIAN
METHOD:PUBLISH
X-WR-CALNAME:Mustard Seed Furniture Bank
X-ORIGINAL-URL:https://mustardseedfortwayne.com
X-WR-CALDESC:Events for Mustard Seed Furniture Bank
REFRESH-INTERVAL;VALUE=DURATION:PT1H
X-Robots-Tag:noindex
X-PUBLISHED-TTL:PT1H
BEGIN:VTIMEZONE
TZID:UTC
BEGIN:STANDARD
TZOFFSETFROM:+0000
TZOFFSETTO:+0000
TZNAME:UTC
DTSTART:20250101T000000
END:STANDARD
END:VTIMEZONE
BEGIN:VEVENT
DTSTART;TZID=UTC:20260504T160000
DTEND;TZID=UTC:20260504T180000
DTSTAMP:20260420T213956
CREATED:20260417T183545Z
LAST-MODIFIED:20260417T183545Z
UID:10000061-1777910400-1777917600@mustardseedfortwayne.com
SUMMARY:Meal & Mattress Giveaway
DESCRIPTION:The Mustard Seed Furniture Bank is proud to partner with Slinging Sunshine to provide 200 meals and 100 twin-sized mattresses to members of our community who need them most. This special event is an opportunity to come together and offer practical support\, comfort\, and care to individuals and families facing hardship.
URL:https://mustardseedfortwayne.com/event/meal-mattress-giveaway/
LOCATION:Mustard Seed Furniture Bank of Fort Wayne\, 3636 Illinois Road\, Fort Wayne\, IN\, 46804\, United States
ORGANIZER;CN="Mustard Seed Furniture Bank of Fort Wayne":MAILTO:info@mustardseedfortwayne.com
END:VEVENT
END:VCALENDAR