BEGIN:VCALENDAR
VERSION:2.0
PRODID:-//Mustard Seed Furniture Bank - ECPv6.15.20//NONSGML v1.0//EN
CALSCALE:GREGORIAN
METHOD:PUBLISH
X-ORIGINAL-URL:https://mustardseedfortwayne.com
X-WR-CALDESC:Events for Mustard Seed Furniture Bank
REFRESH-INTERVAL;VALUE=DURATION:PT1H
X-Robots-Tag:noindex
X-PUBLISHED-TTL:PT1H
BEGIN:VTIMEZONE
TZID:UTC
BEGIN:STANDARD
TZOFFSETFROM:+0000
TZOFFSETTO:+0000
TZNAME:UTC
DTSTART:20250101T000000
END:STANDARD
END:VTIMEZONE
BEGIN:VEVENT
DTSTART;TZID=UTC:20260530T090000
DTEND;TZID=UTC:20260530T120000
DTSTAMP:20260421T040515
CREATED:20260417T184019Z
LAST-MODIFIED:20260417T184019Z
UID:10000062-1780131600-1780142400@mustardseedfortwayne.com
SUMMARY:Spring Into Hope Donation Drive
DESCRIPTION:The Spring Into Hope Donation Drive gives local residents a one-stop opportunity to donate items that can make a meaningful difference in the lives of those in our community. Donations may include furniture\, appliances\, clothing\, towels and linens\, housewares\, home décor\, lawn and garden items\, and building materials. \nBy participating\, you are helping support individuals and families in need while giving gently used and useful items a second life. Join us in making a positive impact and helping bring hope to our community this spring.
URL:https://mustardseedfortwayne.com/event/spring-into-hope-donation-drive/
LOCATION:Mustard Seed Furniture Bank of Fort Wayne\, 3636 Illinois Road\, Fort Wayne\, IN\, 46804\, United States
ORGANIZER;CN="Mustard Seed Furniture Bank of Fort Wayne":MAILTO:info@mustardseedfortwayne.com
END:VEVENT
END:VCALENDAR