BEGIN:VCALENDAR
VERSION:2.0
PRODID:-//Mustard Seed Furniture Bank - ECPv6.15.20//NONSGML v1.0//EN
CALSCALE:GREGORIAN
METHOD:PUBLISH
X-WR-CALNAME:Mustard Seed Furniture Bank
X-ORIGINAL-URL:https://mustardseedfortwayne.com
X-WR-CALDESC:Events for Mustard Seed Furniture Bank
REFRESH-INTERVAL;VALUE=DURATION:PT1H
X-Robots-Tag:noindex
X-PUBLISHED-TTL:PT1H
BEGIN:VTIMEZONE
TZID:UTC
BEGIN:STANDARD
TZOFFSETFROM:+0000
TZOFFSETTO:+0000
TZNAME:UTC
DTSTART:20230101T000000
END:STANDARD
END:VTIMEZONE
BEGIN:VEVENT
DTSTART;VALUE=DATE:20240229
DTEND;VALUE=DATE:20240304
DTSTAMP:20260425T024759
CREATED:20230821T170238Z
LAST-MODIFIED:20230821T170238Z
UID:10000046-1709164800-1709510399@mustardseedfortwayne.com
SUMMARY:Fort Wayne Home & Garden Show at the Memorial Coliseum
DESCRIPTION:Fort Wayne Home & Garden Show at the Memorial Coliseum
URL:https://mustardseedfortwayne.com/event/fort-wayne-home-garden-show-at-the-memorial-coliseum/
LOCATION:Memorial Coliseum\, 4000 Parnell Ave\, Fort Wayne\, IN\, 46805\, United States
CATEGORIES:Fundraiser
END:VEVENT
END:VCALENDAR