BEGIN:VCALENDAR
VERSION:2.0
PRODID:-//Mustard Seed Furniture Bank - ECPv6.15.20//NONSGML v1.0//EN
CALSCALE:GREGORIAN
METHOD:PUBLISH
X-WR-CALNAME:Mustard Seed Furniture Bank
X-ORIGINAL-URL:https://mustardseedfortwayne.com
X-WR-CALDESC:Events for Mustard Seed Furniture Bank
REFRESH-INTERVAL;VALUE=DURATION:PT1H
X-Robots-Tag:noindex
X-PUBLISHED-TTL:PT1H
BEGIN:VTIMEZONE
TZID:UTC
BEGIN:STANDARD
TZOFFSETFROM:+0000
TZOFFSETTO:+0000
TZNAME:UTC
DTSTART:20220101T000000
END:STANDARD
END:VTIMEZONE
BEGIN:VTIMEZONE
TZID:America/New_York
BEGIN:DAYLIGHT
TZOFFSETFROM:-0500
TZOFFSETTO:-0400
TZNAME:EDT
DTSTART:20220313T070000
END:DAYLIGHT
BEGIN:STANDARD
TZOFFSETFROM:-0400
TZOFFSETTO:-0500
TZNAME:EST
DTSTART:20221106T060000
END:STANDARD
BEGIN:DAYLIGHT
TZOFFSETFROM:-0500
TZOFFSETTO:-0400
TZNAME:EDT
DTSTART:20230312T070000
END:DAYLIGHT
BEGIN:STANDARD
TZOFFSETFROM:-0400
TZOFFSETTO:-0500
TZNAME:EST
DTSTART:20231105T060000
END:STANDARD
BEGIN:DAYLIGHT
TZOFFSETFROM:-0500
TZOFFSETTO:-0400
TZNAME:EDT
DTSTART:20240310T070000
END:DAYLIGHT
BEGIN:STANDARD
TZOFFSETFROM:-0400
TZOFFSETTO:-0500
TZNAME:EST
DTSTART:20241103T060000
END:STANDARD
END:VTIMEZONE
BEGIN:VEVENT
DTSTART;TZID=UTC:20260424T180000
DTEND;TZID=UTC:20260424T210000
DTSTAMP:20260420T232311
CREATED:20260417T182258Z
LAST-MODIFIED:20260417T182258Z
UID:10000059-1777053600-1777064400@mustardseedfortwayne.com
SUMMARY:Mustard Seed at the Ballpark
DESCRIPTION:Join Mustard Seed Furniture Bank for an exciting evening cheering on the Fort Wayne TinCaps on Friday\, April 24th! Stop by our Community Corner and show your support while enjoying a night full of family fun\, baseball\, and community spirit. The event runs from 6:00 PM to 9:00 PM\, so bring your family and friends and come be part of a great night at the ballpark!
URL:https://mustardseedfortwayne.com/event/mustard-seed-at-the-ballpark/
LOCATION:Parkview Field\, 4623 Stratford Rd.\, Fort Wayne\, IN\, 46807\, United States
ORGANIZER;CN="Mustard Seed Furniture Bank of Fort Wayne":MAILTO:info@mustardseedfortwayne.com
END:VEVENT
BEGIN:VEVENT
DTSTART;TZID=UTC:20250430T180000
DTEND;TZID=UTC:20250430T200000
DTSTAMP:20260420T232311
CREATED:20250420T205813Z
LAST-MODIFIED:20250420T205813Z
UID:10000050-1746036000-1746043200@mustardseedfortwayne.com
SUMMARY:Shower The Seed
DESCRIPTION:Shower The Seed 2025 – prepaid reservations are required for this special fundraising event. Visit the event webpage and buy tickets here. \nMark your calendar and get ready for an unforgettable night! The 2025 SECRET GARDEN | Shower the Seed Gala is more than just an event—it’s a celebration of hope\, community\, and the incredible difference we’re making together through the Beds4Kids program. \nShower the Seed | Dinner & Auction\n Wednesday\, April 30\, 2025\n 6:00 PM – 8:00 PM\n Electric Works | DO IT BEST Don Wood Conference Center\n1626 Broadway\, Suite 100\, Fort Wayne\, IN 46802 \nJoin us as we raise the FUN while raising funds for our Beds4Kids program  Every ticket helps provide a bed\, bedding\, and comfort to a child in need. \n Tickets are on sale NOW! Don’t miss this magical evening featuring: LIVE art by local artists Music by the Adam Strack Band A special beverage tasting experience Delicious food & drink by Club Soda \nA HUGE thank you to our generous sponsors for making this night possible  \nLet’s grow something beautiful together  #SecretGardenGala #Beds4Kids #RaiseTheFun #MustardSeedFurnitureBank \nThanks to supporters like you\, 2024 was an amazing year. With your help\, we achieved a 42% increase in the number of children who went from sleeping on the floor to snuggling into their very own beds. These beds are more than furniture—they’re a foundation of comfort\, security\, and stability. \nOne family’s story truly captures the impact of this program: A courageous single mom and her two kids\, after escaping domestic violence\, were safe in their new apartment—but sleeping on the floor. With your support\, we delivered brand-new beds\, cozy bedding\, and essential furnishings to help them rebuild their lives. The children now sleep soundly\, focus on school\, and feel hope for the future. \nNow\, 2025 is calling us to dream even bigger. Our goal is ambitious but achievable: raise $100\,000 to ensure every child we serve has the comfort and dignity of a bed to call their own. Together\, we can make it happen! \nHow You Can Be Part of the Magic:\n\nPurchase Tickets: Enjoy a night of delicious food\, exciting auction items\, and inspiring stories that will touch your heart.\nBecome a Sponsor: Partner with us to amplify your impact and show your support for children in Northeast Indiana.\nVolunteer: Lend a helping hand at the event and be part of something extraordinary!\n\nTogether\, we’ll celebrate the lives we’ve changed and rally to bring comfort and dignity to even more children in 2025. Let’s make it a night to remember and a future to be proud of. \nReserve your spot today and help us make dreams come true—one bed at a time. We can’t wait to see you there! \n 
URL:https://mustardseedfortwayne.com/event/shower-the-seed-2024-3-2/
LOCATION:Do it Best @ Electric Works\, 1626 Broadway Suite 100\, Fort Wayne\, IN\, 46802\, United States
CATEGORIES:Fundraiser
ORGANIZER;CN="Mustard Seed Furniture Bank of Fort Wayne":MAILTO:info@mustardseedfortwayne.com
END:VEVENT
BEGIN:VEVENT
DTSTART;TZID=UTC:20250417T173000
DTEND;TZID=UTC:20250417T173000
DTSTAMP:20260420T232311
CREATED:20230821T170317Z
LAST-MODIFIED:20240322T165154Z
UID:10000049-1744911000-1744911000@mustardseedfortwayne.com
SUMMARY:Shower The Seed
DESCRIPTION:Shower The Seed 2024 – prepaid reservations are required for this special fundraising event. Visit the event webpage and buy tickets here. \n 
URL:https://mustardseedfortwayne.com/event/shower-the-seed-2024/
LOCATION:IN
CATEGORIES:Fundraiser
END:VEVENT
BEGIN:VEVENT
DTSTART;TZID=UTC:20240929T160000
DTEND;TZID=UTC:20240929T190000
DTSTAMP:20260420T232311
CREATED:20240520T201515Z
LAST-MODIFIED:20240705T135442Z
UID:10000053-1727625600-1727636400@mustardseedfortwayne.com
SUMMARY:Imagine that | Brews & Bites
DESCRIPTION:Join Us for “Imagine That – Brews and Bites”! 🌟 \n \n✨ Event Highlights: \n\nGourmet Bites: Savor delicious\, chef-crafted bites that will tantalize your taste buds.\nSpecialty Beers\, wine & cocktails: Sip on a curated selection of specialty beers\, each one a treat for the palate.\nGreat Company: Mingle with fellow supporters in a warm\, welcoming setting.\n\nEvery bite and sip helps us grow the seeds of change\, providing vital resources and support to those in need. Your presence will make a meaningful difference in our community. \n📅 Date: September 29\, 2024 from 4:00pm -7:00pm 📍 Location: Club Soda \nLet’s come together to celebrate and support Mustard Seeds’ mission. Imagine the impact we can make\, one bite and one brew at a time! \nBuy tickets here: https://mustardseedfurniturebank-bloom.kindful.com/e/brews-bites \nBE A SPONSOR\nDonate\n \nSee you there! 🍻🥂
URL:https://mustardseedfortwayne.com/event/imagine-that-brews-bites/
LOCATION:Club Soda\, 235 E Superior St.\, Fort Wayne\, IN\, 46804\, United States
CATEGORIES:Announcements,Fundraiser
ORGANIZER;CN="Mustard Seed Furniture Bank of Fort Wayne":MAILTO:info@mustardseedfortwayne.com
END:VEVENT
BEGIN:VEVENT
DTSTART;TZID=UTC:20240920T110000
DTEND;TZID=UTC:20240920T210000
DTSTAMP:20260420T232311
CREATED:20240912T151500Z
LAST-MODIFIED:20240912T151500Z
UID:10000056-1726830000-1726866000@mustardseedfortwayne.com
SUMMARY:Play with Purpose | Power Up Action Park
DESCRIPTION:Playtime with a purpose! On September 20th\, all sales at Power Up Action Park will support the Mustard Seed Furniture Bank. Bring your family\, have fun\, and make an impact! #ActivePlay #GiveBack #MustardSeedFurnitureBank\n\nVisit for info on all the fun stuff: https://www.powerupfw.com/\n\nTickets are $23 and available online or at the venue.\n\n5310 Merchandise Dr\, Fort Wayne\, IN 46825
URL:https://mustardseedfortwayne.com/event/play-with-purpose-power-up-action-park/
LOCATION:Power Up Action Park\, 5310 Merchandise Dr.\, Fort WAyne\, IN\, 46825\, United States
ORGANIZER;CN="Mustard Seed Furniture Bank of Fort Wayne":MAILTO:info@mustardseedfortwayne.com
END:VEVENT
BEGIN:VEVENT
DTSTART;TZID=UTC:20240608T090000
DTEND;TZID=UTC:20240608T120000
DTSTAMP:20260420T232311
CREATED:20240522T193623Z
LAST-MODIFIED:20240522T193623Z
UID:10000055-1717837200-1717848000@mustardseedfortwayne.com
SUMMARY:2nd Saturday at the Seed
DESCRIPTION:Join us every month on the second Saturday from 9:00 AM to 12:00 PM for 2nd Saturday at the Seed. Drop off your donations during this time or schedule a donation pick-up by calling 260-471-5802 ext 103 (spots fill up fast!). You can also volunteer; simply email donations@mustardseedfortwayne.com to get involved!
URL:https://mustardseedfortwayne.com/event/2nd-saturday-at-the-seed/
LOCATION:Mustard Seed Furniture Bank of Fort Wayne\, 3636 Illinois Road\, Fort Wayne\, IN\, 46804\, United States
ORGANIZER;CN="Mustard Seed Furniture Bank of Fort Wayne":MAILTO:info@mustardseedfortwayne.com
END:VEVENT
BEGIN:VEVENT
DTSTART;TZID=UTC:20240603T170000
DTEND;TZID=UTC:20240603T180000
DTSTAMP:20260420T232311
CREATED:20240522T192921Z
LAST-MODIFIED:20240522T192921Z
UID:10000054-1717434000-1717437600@mustardseedfortwayne.com
SUMMARY:Meet at the Seed
DESCRIPTION:Join us on the first Monday of every month at 5:00pm for an open house at the Mustard Seed. Meet our Executive Director\, board members\, and dedicated staff\, tour the warehouse\, connect with others who share your interests\, and learn more about the positive impact the Mustard Seed is making in our community.  Please RSVP to Sarah at director@mustardseedfortwayne.com
URL:https://mustardseedfortwayne.com/event/meet-at-the-seed/
LOCATION:Mustard Seed Furniture Bank of Fort Wayne\, 3636 Illinois Road\, Fort Wayne\, IN\, 46804\, United States
CATEGORIES:Open House
ORGANIZER;CN="Mustard Seed Furniture Bank of Fort Wayne":MAILTO:info@mustardseedfortwayne.com
END:VEVENT
BEGIN:VEVENT
DTSTART;TZID=UTC:20240418T173000
DTEND;TZID=UTC:20240418T173000
DTSTAMP:20260420T232311
CREATED:20240322T160207Z
LAST-MODIFIED:20240322T170505Z
UID:10000048-1713461400-1713461400@mustardseedfortwayne.com
SUMMARY:Shower The Seed 2024
DESCRIPTION:Shower The Seed 2024 – prepaid reservations are required for this special fundraising event.  Get more information and buy tickets here.
URL:https://mustardseedfortwayne.com/event/shower-the-seed-2024-2/
LOCATION:Mustard Seed\, 3636 Illinois Road\, Fort Wayne\, IN\, 46804\, United States
CATEGORIES:Fundraiser
ATTACH;FMTTYPE=image/png:https://mustardseedfortwayne.com/wp-content/uploads/2024/03/Shower-the-Seed-Banner-2024-3.png
END:VEVENT
BEGIN:VEVENT
DTSTART;VALUE=DATE:20240229
DTEND;VALUE=DATE:20240304
DTSTAMP:20260420T232311
CREATED:20230821T170238Z
LAST-MODIFIED:20230821T170238Z
UID:10000046-1709164800-1709510399@mustardseedfortwayne.com
SUMMARY:Fort Wayne Home & Garden Show at the Memorial Coliseum
DESCRIPTION:Fort Wayne Home & Garden Show at the Memorial Coliseum
URL:https://mustardseedfortwayne.com/event/fort-wayne-home-garden-show-at-the-memorial-coliseum/
LOCATION:Memorial Coliseum\, 4000 Parnell Ave\, Fort Wayne\, IN\, 46805\, United States
CATEGORIES:Fundraiser
END:VEVENT
BEGIN:VEVENT
DTSTART;VALUE=DATE:20240103
DTEND;VALUE=DATE:20240104
DTSTAMP:20260420T232311
CREATED:20230821T170018Z
LAST-MODIFIED:20230821T170018Z
UID:10000045-1704240000-1704326399@mustardseedfortwayne.com
SUMMARY:Mustard Seed will re-open for the New Year!
DESCRIPTION:Mustard Seed will re-open for the New Year!
URL:https://mustardseedfortwayne.com/event/mustard-seed-will-re-open-for-the-new-year/
LOCATION:IN
CATEGORIES:Announcements
END:VEVENT
BEGIN:VEVENT
DTSTART;TZID=UTC:20231229T120000
DTEND;TZID=UTC:20231229T170000
DTSTAMP:20260420T232311
CREATED:20230821T165916Z
LAST-MODIFIED:20230821T165922Z
UID:10000044-1703851200-1703869200@mustardseedfortwayne.com
SUMMARY:Closing at noon for the New Year holiday
DESCRIPTION:Closing at noon for the New Year holiday
URL:https://mustardseedfortwayne.com/event/closing-at-noon-for-the-new-year-holiday/
LOCATION:IN
CATEGORIES:Announcements
END:VEVENT
BEGIN:VEVENT
DTSTART;VALUE=DATE:20231225
DTEND;VALUE=DATE:20231227
DTSTAMP:20260420T232311
CREATED:20230821T165806Z
LAST-MODIFIED:20230821T165806Z
UID:10000043-1703462400-1703635199@mustardseedfortwayne.com
SUMMARY:Closed for the Christmas holiday
DESCRIPTION:Closed for the Christmas holiday
URL:https://mustardseedfortwayne.com/event/closed-for-the-christmas-holiday/
LOCATION:IN
CATEGORIES:Announcements
END:VEVENT
BEGIN:VEVENT
DTSTART;VALUE=DATE:20231122
DTEND;VALUE=DATE:20231127
DTSTAMP:20260420T232311
CREATED:20230821T165706Z
LAST-MODIFIED:20230821T165820Z
UID:10000042-1700611200-1701043199@mustardseedfortwayne.com
SUMMARY:Closed for the Thanksgiving holiday
DESCRIPTION:Closed for the Thanksgiving holiday
URL:https://mustardseedfortwayne.com/event/closed-for-the-thanksgiving-holiday/
LOCATION:IN
CATEGORIES:Announcements
END:VEVENT
BEGIN:VEVENT
DTSTART;VALUE=DATE:20231101
DTEND;VALUE=DATE:20240101
DTSTAMP:20260420T232311
CREATED:20230331T150541Z
LAST-MODIFIED:20230822T163358Z
UID:10000035-1698796800-1704067199@mustardseedfortwayne.com
SUMMARY:4th Annual Luminary Sales
DESCRIPTION:November / December \n4th Annual “Be The Light In A Child’s night” Luminary Sale** benefiting Beds4Kids Program. \nSponsorships available! Contact:  events@mustardseedfortwayne.com or call 260-471-5802 x100 for more details. \n 
URL:https://mustardseedfortwayne.com/event/4th-annual-luminary-sales/
LOCATION:IN
CATEGORIES:Announcements
END:VEVENT
BEGIN:VEVENT
DTSTART;TZID=UTC:20231021T130000
DTEND;TZID=UTC:20231021T160000
DTSTAMP:20260420T232311
CREATED:20230821T165352Z
LAST-MODIFIED:20230821T165502Z
UID:10000040-1697893200-1697904000@mustardseedfortwayne.com
SUMMARY:Cap n Cork Liquor Bourbon Event
DESCRIPTION:Cap n Cork Liquor Bourbon Event at the Memorial Coliseum Event Center 1 – 4 pm
URL:https://mustardseedfortwayne.com/event/cap-n-cork-liquor-bourbon-event/
LOCATION:Memorial Coliseum\, 4000 Parnell Ave\, Fort Wayne\, IN\, 46805\, United States
CATEGORIES:Fundraiser
END:VEVENT
BEGIN:VEVENT
DTSTART;VALUE=DATE:20231021
DTEND;VALUE=DATE:20231028
DTSTAMP:20260420T232311
CREATED:20230821T165448Z
LAST-MODIFIED:20230821T165736Z
UID:10000041-1697846400-1698451199@mustardseedfortwayne.com
SUMMARY:Write A Will
DESCRIPTION:E-mail:  events@mustardseedfortwayne.com – to learn more or schedule your appt.
URL:https://mustardseedfortwayne.com/event/write-a-will/
LOCATION:IN
CATEGORIES:Announcements
END:VEVENT
BEGIN:VEVENT
DTSTART;TZID=UTC:20230921T090000
DTEND;TZID=UTC:20230921T140000
DTSTAMP:20260420T232311
CREATED:20230821T165005Z
LAST-MODIFIED:20230821T165541Z
UID:10000039-1695286800-1695304800@mustardseedfortwayne.com
SUMMARY:Senior Information Fair at Turnstone
DESCRIPTION:Stop by our booth to obtain information\, learn more about the ways you can assist our mission.
URL:https://mustardseedfortwayne.com/event/senior-information-fair-at-turnstone/
LOCATION:Turnstone Center for Children & Adult with Disabilities\, 3320 N Clinton St\, Fort Wayne\, IN\, 46805\, United States
CATEGORIES:Fundraiser
END:VEVENT
BEGIN:VEVENT
DTSTART;VALUE=DATE:20230915
DTEND;VALUE=DATE:20230916
DTSTAMP:20260420T232311
CREATED:20230821T164634Z
LAST-MODIFIED:20230821T164634Z
UID:10000038-1694736000-1694822399@mustardseedfortwayne.com
SUMMARY:Hosting Master Spas “Amazing Race 2023”
DESCRIPTION:Staff are paired in a “race” to designated area nonprofits as they accomplish tasks for each agency. 
URL:https://mustardseedfortwayne.com/event/hosting-master-spas-amazing-race-2023/
LOCATION:IN
CATEGORIES:Volunteer
END:VEVENT
BEGIN:VEVENT
DTSTART;VALUE=DATE:20230904
DTEND;VALUE=DATE:20230905
DTSTAMP:20260420T232311
CREATED:20230821T163436Z
LAST-MODIFIED:20230821T164943Z
UID:10000037-1693785600-1693871999@mustardseedfortwayne.com
SUMMARY:Closed for Labor Day
DESCRIPTION:Closed for Labor Day
URL:https://mustardseedfortwayne.com/event/closed-for-labor-day/
LOCATION:IN
CATEGORIES:Announcements
END:VEVENT
BEGIN:VEVENT
DTSTART;VALUE=DATE:20230823
DTEND;VALUE=DATE:20230824
DTSTAMP:20260420T232311
CREATED:20230821T162832Z
LAST-MODIFIED:20230821T162841Z
UID:10000036-1692748800-1692835199@mustardseedfortwayne.com
SUMMARY:Closed for “United Way Day of Caring”
DESCRIPTION:Closed for “United Way Day of Caring” with volunteers from Catholic Charities
URL:https://mustardseedfortwayne.com/event/closed-for-united-way-day-of-caring/
LOCATION:IN
CATEGORIES:Announcements
END:VEVENT
BEGIN:VEVENT
DTSTART;TZID=America/New_York:20230520T090000
DTEND;TZID=America/New_York:20230520T120000
DTSTAMP:20260420T232311
CREATED:20230331T150137Z
LAST-MODIFIED:20230331T150137Z
UID:10000034-1684573200-1684584000@mustardseedfortwayne.com
SUMMARY:Community Collection Day
DESCRIPTION:Saturday\, May 20th\, 9AM—12PM \nThis one-day event will have locally focused nonprofit agencies to join for a one-stop drop-off. \nThe Mustard Seed will be hosting at 3636 Illinois Road\, Fort Wayne\, 46804.
URL:https://mustardseedfortwayne.com/event/community-collection-day-5-20-23/
LOCATION:IN
CATEGORIES:Announcements
END:VEVENT
BEGIN:VEVENT
DTSTART;VALUE=DATE:20230512
DTEND;VALUE=DATE:20230513
DTSTAMP:20260420T232311
CREATED:20230331T145544Z
LAST-MODIFIED:20230331T145606Z
UID:10000033-1683849600-1683935999@mustardseedfortwayne.com
SUMMARY:Fort Wayne Tincaps
DESCRIPTION:Friday\, May 12th — Mustard Seed is the Community Organization of the Fort Wayne TinCaps game.
URL:https://mustardseedfortwayne.com/event/fort-wayne-tincaps-5-12/
LOCATION:IN
CATEGORIES:Announcements
END:VEVENT
BEGIN:VEVENT
DTSTART;VALUE=DATE:20230420
DTEND;VALUE=DATE:20230421
DTSTAMP:20260420T232311
CREATED:20230331T145425Z
LAST-MODIFIED:20230331T151637Z
UID:10000032-1681948800-1682035199@mustardseedfortwayne.com
SUMMARY:20th Charity Auction Event
DESCRIPTION:
URL:https://mustardseedfortwayne.com/event/20th-charity-auction-event/
LOCATION:IN
CATEGORIES:Announcements
END:VEVENT
BEGIN:VEVENT
DTSTART;VALUE=DATE:20230417
DTEND;VALUE=DATE:20230422
DTSTAMP:20260420T232311
CREATED:20230331T145158Z
LAST-MODIFIED:20230331T145158Z
UID:10000031-1681689600-1682121599@mustardseedfortwayne.com
SUMMARY:Mustard Seed Closed - April 17—21
DESCRIPTION:Mustard Seed will be closed the week of April 17th to prepare for our Spring event.
URL:https://mustardseedfortwayne.com/event/mustard-seed-closed-april-17-21/
LOCATION:IN
CATEGORIES:Announcements
END:VEVENT
END:VCALENDAR